BEGIN:VCALENDAR
VERSION:2.0
PRODID:-// - ECPv6.15.20//NONSGML v1.0//EN
CALSCALE:GREGORIAN
METHOD:PUBLISH
X-ORIGINAL-URL:https://peopleworx.ca
X-WR-CALDESC:Events for 
REFRESH-INTERVAL;VALUE=DURATION:PT1H
X-Robots-Tag:noindex
X-PUBLISHED-TTL:PT1H
BEGIN:VTIMEZONE
TZID:America/Halifax
BEGIN:DAYLIGHT
TZOFFSETFROM:-0400
TZOFFSETTO:-0300
TZNAME:ADT
DTSTART:20240310T060000
END:DAYLIGHT
BEGIN:STANDARD
TZOFFSETFROM:-0300
TZOFFSETTO:-0400
TZNAME:AST
DTSTART:20241103T050000
END:STANDARD
BEGIN:DAYLIGHT
TZOFFSETFROM:-0400
TZOFFSETTO:-0300
TZNAME:ADT
DTSTART:20250309T060000
END:DAYLIGHT
BEGIN:STANDARD
TZOFFSETFROM:-0300
TZOFFSETTO:-0400
TZNAME:AST
DTSTART:20251102T050000
END:STANDARD
BEGIN:DAYLIGHT
TZOFFSETFROM:-0400
TZOFFSETTO:-0300
TZNAME:ADT
DTSTART:20260308T060000
END:DAYLIGHT
BEGIN:STANDARD
TZOFFSETFROM:-0300
TZOFFSETTO:-0400
TZNAME:AST
DTSTART:20261101T050000
END:STANDARD
END:VTIMEZONE
BEGIN:VEVENT
DTSTART;VALUE=DATE:20250131
DTEND;VALUE=DATE:20250201
DTSTAMP:20260424T040241
CREATED:20241228T133543Z
LAST-MODIFIED:20241228T133543Z
UID:2630-1738281600-1738367999@peopleworx.ca
SUMMARY:NSW School Liaison at WKDHS
DESCRIPTION:Our Nova Scotia Works School Liaison is available every Friday at West Kings District High School with great information for youth as they develop their employability skills and connect to employment. \nShe is also available to consult with parents and caregivers with the same youth-focused information. \nContact Melanie melanie.mcculloch@gnspes.ca  and check out the microsite for more information bit.ly/NSW_Melanie
URL:https://peopleworx.ca/event/nsw-school-liaison-at-wkdhs-5/
LOCATION:West Kings District High School\, 1941 Hwy 1\, Auburn\, Nova Scotia\, B0P1A0\, Canada
CATEGORIES:Berwick Area,Kingston/Greenwood,Youth
ORGANIZER;CN="Nova Scotia Works PeopleWorx":MAILTO:contact@peopleworx.ca
END:VEVENT
BEGIN:VEVENT
DTSTART;TZID=America/Halifax:20250131T130000
DTEND;TZID=America/Halifax:20250131T143000
DTSTAMP:20260424T040241
CREATED:20241230T175307Z
LAST-MODIFIED:20250119T102449Z
UID:2655-1738328400-1738333800@peopleworx.ca
SUMMARY:Let's Talk Careers for Youth - Networking and Career Exploration
DESCRIPTION:Join us on your in-service day at our Nova Scotia Works Centre in Coldbrook. This free\, group workshop is for high school youth who want to learn about networking and how it can be used for career exploration. No experience necessary! This workshop is hosted by our School Liaison\, Melanie. \nRegistration for the workshop is appreciated. Contact us at workshop@peopleworx.ca or 1-866-609-9675. \nDue to extreme sensitivities\, our buildings and workshop spaces are scent-free. Please do not wear scented products when you visit. Thank you.
URL:https://peopleworx.ca/event/lets-talk-careers-for-youth-networking-and-career-exploration/
LOCATION:Nova Scotia Works - Coldbrook\, 11 Opportunity Lane\, Coldbrook\, Nova Scotia\, B4R 0A5\, Canada
CATEGORIES:Coldbrook Area,Workshop,Youth
ORGANIZER;CN="PeopleWorx":MAILTO:contact@peopleworx.ca
END:VEVENT
END:VCALENDAR