BEGIN:VCALENDAR
VERSION:2.0
PRODID:-// - ECPv6.15.20//NONSGML v1.0//EN
CALSCALE:GREGORIAN
METHOD:PUBLISH
X-ORIGINAL-URL:https://peopleworx.ca
X-WR-CALDESC:Events for 
REFRESH-INTERVAL;VALUE=DURATION:PT1H
X-Robots-Tag:noindex
X-PUBLISHED-TTL:PT1H
BEGIN:VTIMEZONE
TZID:America/Halifax
BEGIN:DAYLIGHT
TZOFFSETFROM:-0400
TZOFFSETTO:-0300
TZNAME:ADT
DTSTART:20240310T060000
END:DAYLIGHT
BEGIN:STANDARD
TZOFFSETFROM:-0300
TZOFFSETTO:-0400
TZNAME:AST
DTSTART:20241103T050000
END:STANDARD
BEGIN:DAYLIGHT
TZOFFSETFROM:-0400
TZOFFSETTO:-0300
TZNAME:ADT
DTSTART:20250309T060000
END:DAYLIGHT
BEGIN:STANDARD
TZOFFSETFROM:-0300
TZOFFSETTO:-0400
TZNAME:AST
DTSTART:20251102T050000
END:STANDARD
BEGIN:DAYLIGHT
TZOFFSETFROM:-0400
TZOFFSETTO:-0300
TZNAME:ADT
DTSTART:20260308T060000
END:DAYLIGHT
BEGIN:STANDARD
TZOFFSETFROM:-0300
TZOFFSETTO:-0400
TZNAME:AST
DTSTART:20261101T050000
END:STANDARD
END:VTIMEZONE
BEGIN:VEVENT
DTSTART;VALUE=DATE:20250501
DTEND;VALUE=DATE:20250502
DTSTAMP:20260423T224054
CREATED:20250102T171209Z
LAST-MODIFIED:20250102T171209Z
UID:2815-1746057600-1746143999@peopleworx.ca
SUMMARY:School Liaison at Middleton Regional High School
DESCRIPTION:Our Nova Scotia Works School Liaison is available every Thursday at Middleton Regional High School with great information for youth they develop their employability skills and connect to employment. \nShe is also available to consult with parents and caregivers with the same youth-focused information. \nContact Melanie melanie.mcculloch@gnspes.ca  and check out the microsite for more information bit.ly/NSW_Melanie
URL:https://peopleworx.ca/event/school-liaison-at-middleton-regional-high-school-10/
LOCATION:Middleton Regional High School\, 18 Gates Avenue\, Middleton\, Nova Scotia\, B0S 1P0\, Canada
CATEGORIES:Middleton Area,Youth
ORGANIZER;CN="Nova Scotia Works PeopleWorx":MAILTO:contact@peopleworx.ca
END:VEVENT
BEGIN:VEVENT
DTSTART;VALUE=DATE:20250502
DTEND;VALUE=DATE:20250503
DTSTAMP:20260423T224054
CREATED:20250102T142436Z
LAST-MODIFIED:20250102T142823Z
UID:2738-1746144000-1746230399@peopleworx.ca
SUMMARY:School Liaison at West Kings District High School
DESCRIPTION:Our Nova Scotia Works School Liaison is available every Friday at West Kings District High School with great information for youth as they develop their employability skills and connect to employment. \nShe is also available to consult with parents and caregivers with the same youth-focused information. \nContact Melanie melanie.mcculloch@gnspes.ca  and check out the microsite for more information bit.ly/NSW_Melanie
URL:https://peopleworx.ca/event/school-liaison-at-wkdhs-9/
LOCATION:West Kings District High School\, 1941 Hwy 1\, Auburn\, Nova Scotia\, B0P1A0\, Canada
CATEGORIES:Berwick Area,Middleton Area,Youth
ORGANIZER;CN="Nova Scotia Works PeopleWorx":MAILTO:contact@peopleworx.ca
END:VEVENT
BEGIN:VEVENT
DTSTART;VALUE=DATE:20250507
DTEND;VALUE=DATE:20250508
DTSTAMP:20260423T224054
CREATED:20250102T152215Z
LAST-MODIFIED:20250102T152215Z
UID:2781-1746576000-1746662399@peopleworx.ca
SUMMARY:School Liaison Northeast Kings Education Centre
DESCRIPTION:Our Nova Scotia Works School Liaison is available every Wednesday at Northeast Kings Education Centre with great information for youth as they develop their employability skills and connect to employment. \nShe is also available to consult with parents and caregivers with the same youth-focused information. \nFor more information contact Melanie at melanie.mcculloch@gnspes.ca and visit her microsite bit.ly/NSW_Melanie
URL:https://peopleworx.ca/event/school-liaison-northeast-kings-education-centre-2/
LOCATION:Northeast Kings Education Centre\, 1816 Bains Road\, Canning\, Nova Scotia\, B0P 1H0
CATEGORIES:Canning Area,Youth
ORGANIZER;CN="Nova Scotia Works PeopleWorx":MAILTO:contact@peopleworx.ca
END:VEVENT
BEGIN:VEVENT
DTSTART;VALUE=DATE:20250508
DTEND;VALUE=DATE:20250509
DTSTAMP:20260423T224054
CREATED:20250102T171342Z
LAST-MODIFIED:20250102T171342Z
UID:2817-1746662400-1746748799@peopleworx.ca
SUMMARY:School Liaison at Middleton Regional High School
DESCRIPTION:Our Nova Scotia Works School Liaison is available every Thursday at Middleton Regional High School with great information for youth they develop their employability skills and connect to employment. \nShe is also available to consult with parents and caregivers with the same youth-focused information. \nContact Melanie melanie.mcculloch@gnspes.ca  and check out the microsite for more information bit.ly/NSW_Melanie
URL:https://peopleworx.ca/event/school-liaison-at-middleton-regional-high-school-11/
LOCATION:Middleton Regional High School\, 18 Gates Avenue\, Middleton\, Nova Scotia\, B0S 1P0\, Canada
CATEGORIES:Middleton Area,Youth
ORGANIZER;CN="Nova Scotia Works PeopleWorx":MAILTO:contact@peopleworx.ca
END:VEVENT
BEGIN:VEVENT
DTSTART;VALUE=DATE:20250509
DTEND;VALUE=DATE:20250510
DTSTAMP:20260423T224054
CREATED:20250102T142614Z
LAST-MODIFIED:20250102T142614Z
UID:2740-1746748800-1746835199@peopleworx.ca
SUMMARY:School Liaison at West Kings District High School
DESCRIPTION:Our Nova Scotia Works School Liaison is available every Friday at West Kings District High School with great information for youth as they develop their employability skills and connect to employment. \nShe is also available to consult with parents and caregivers with the same youth-focused information. \nContact Melanie melanie.mcculloch@gnspes.ca  and check out the microsite for more information bit.ly/NSW_Melanie
URL:https://peopleworx.ca/event/school-liaison-at-west-kings-district-high-school/
LOCATION:West Kings District High School\, 1941 Hwy 1\, Auburn\, Nova Scotia\, B0P1A0\, Canada
CATEGORIES:Berwick Area,Kingston/Greenwood,Youth
ORGANIZER;CN="Nova Scotia Works PeopleWorx":MAILTO:contact@peopleworx.ca
END:VEVENT
BEGIN:VEVENT
DTSTART;VALUE=DATE:20250514
DTEND;VALUE=DATE:20250515
DTSTAMP:20260423T224054
CREATED:20250102T152336Z
LAST-MODIFIED:20250102T152336Z
UID:2783-1747180800-1747267199@peopleworx.ca
SUMMARY:School Liaison at Northeast Kings Education Centre
DESCRIPTION:Our Nova Scotia Works School Liaison is available every Wednesday at Northeast Kings Education Centre with great information for youth as they develop their employability skills and connect to employment. \nShe is also available to consult with parents and caregivers with the same youth-focused information. \nFor more information contact Melanie at melanie.mcculloch@gnspes.ca and visit her microsite bit.ly/NSW_Melanie
URL:https://peopleworx.ca/event/school-liaison-at-northeast-kings-education-centre-12/
LOCATION:Northeast Kings Education Centre\, 1816 Bains Road\, Canning\, Nova Scotia\, B0P 1H0
CATEGORIES:Canning Area,Youth
ORGANIZER;CN="Nova Scotia Works PeopleWorx":MAILTO:contact@peopleworx.ca
END:VEVENT
BEGIN:VEVENT
DTSTART;VALUE=DATE:20250515
DTEND;VALUE=DATE:20250516
DTSTAMP:20260423T224054
CREATED:20250102T171458Z
LAST-MODIFIED:20250102T171458Z
UID:2819-1747267200-1747353599@peopleworx.ca
SUMMARY:School Liaison at Middleton Regional High School
DESCRIPTION:Our Nova Scotia Works School Liaison is available every Thursday at Middleton Regional High School with great information for youth they develop their employability skills and connect to employment. \nShe is also available to consult with parents and caregivers with the same youth-focused information. \nContact Melanie melanie.mcculloch@gnspes.ca  and check out the microsite for more information bit.ly/NSW_Melanie
URL:https://peopleworx.ca/event/school-liaison-at-middleton-regional-high-school-12/
LOCATION:Middleton Regional High School\, 18 Gates Avenue\, Middleton\, Nova Scotia\, B0S 1P0\, Canada
CATEGORIES:Middleton Area,Youth
ORGANIZER;CN="Nova Scotia Works PeopleWorx":MAILTO:contact@peopleworx.ca
END:VEVENT
BEGIN:VEVENT
DTSTART;VALUE=DATE:20250516
DTEND;VALUE=DATE:20250517
DTSTAMP:20260423T224054
CREATED:20250102T143757Z
LAST-MODIFIED:20250102T143757Z
UID:2743-1747353600-1747439999@peopleworx.ca
SUMMARY:School Liaison at West Kings District High School
DESCRIPTION:Our Nova Scotia Works School Liaison is available every Friday at West Kings District High School with great information for youth as they develop their employability skills and connect to employment. \nShe is also available to consult with parents and caregivers with the same youth-focused information. \nContact Melanie melanie.mcculloch@gnspes.ca  and check out the microsite for more information bit.ly/NSW_Melanie
URL:https://peopleworx.ca/event/school-liaison-at-west-kings-district-high-school-2/
LOCATION:West Kings District High School\, 1941 Hwy 1\, Auburn\, Nova Scotia\, B0P1A0\, Canada
CATEGORIES:Berwick Area,Kingston/Greenwood,Youth
ORGANIZER;CN="Nova Scotia Works PeopleWorx":MAILTO:contact@peopleworx.ca
END:VEVENT
BEGIN:VEVENT
DTSTART;VALUE=DATE:20250521
DTEND;VALUE=DATE:20250522
DTSTAMP:20260423T224054
CREATED:20250102T152503Z
LAST-MODIFIED:20250102T152503Z
UID:2785-1747785600-1747871999@peopleworx.ca
SUMMARY:School Liaison at Northeast Kings Education Centre
DESCRIPTION:Our Nova Scotia Works School Liaison is available every Wednesday at Northeast Kings Education Centre with great information for youth as they develop their employability skills and connect to employment. \nShe is also available to consult with parents and caregivers with the same youth-focused information. \nFor more information contact Melanie at melanie.mcculloch@gnspes.ca and visit her microsite bit.ly/NSW_Melanie
URL:https://peopleworx.ca/event/school-liaison-at-northeast-kings-education-centre-13/
LOCATION:Northeast Kings Education Centre\, 1816 Bains Road\, Canning\, Nova Scotia\, B0P 1H0
CATEGORIES:Canning Area,Youth
ORGANIZER;CN="Nova Scotia Works PeopleWorx":MAILTO:contact@peopleworx.ca
END:VEVENT
BEGIN:VEVENT
DTSTART;VALUE=DATE:20250522
DTEND;VALUE=DATE:20250523
DTSTAMP:20260423T224054
CREATED:20250102T171629Z
LAST-MODIFIED:20250102T171629Z
UID:2821-1747872000-1747958399@peopleworx.ca
SUMMARY:School Liaison at Middleton Regional High School
DESCRIPTION:Our Nova Scotia Works School Liaison is available every Thursday at Middleton Regional High School with great information for youth they develop their employability skills and connect to employment. \nShe is also available to consult with parents and caregivers with the same youth-focused information. \nContact Melanie melanie.mcculloch@gnspes.ca  and check out the microsite for more information bit.ly/NSW_Melanie
URL:https://peopleworx.ca/event/school-liaison-at-middleton-regional-high-school-13/
LOCATION:Middleton Regional High School\, 18 Gates Avenue\, Middleton\, Nova Scotia\, B0S 1P0\, Canada
CATEGORIES:Middleton Area,Youth
ORGANIZER;CN="Nova Scotia Works PeopleWorx":MAILTO:contact@peopleworx.ca
END:VEVENT
BEGIN:VEVENT
DTSTART;VALUE=DATE:20250523
DTEND;VALUE=DATE:20250524
DTSTAMP:20260423T224054
CREATED:20250102T143908Z
LAST-MODIFIED:20250102T143908Z
UID:2745-1747958400-1748044799@peopleworx.ca
SUMMARY:School Liaison at West Kings District High School
DESCRIPTION:Our Nova Scotia Works School Liaison is available every Friday at West Kings District High School with great information for youth as they develop their employability skills and connect to employment. \nShe is also available to consult with parents and caregivers with the same youth-focused information. \nContact Melanie melanie.mcculloch@gnspes.ca  and check out the microsite for more information bit.ly/NSW_Melanie
URL:https://peopleworx.ca/event/school-liaison-at-west-kings-district-high-school-3/
LOCATION:West Kings District High School\, 1941 Hwy 1\, Auburn\, Nova Scotia\, B0P1A0\, Canada
CATEGORIES:Berwick Area,Kingston/Greenwood,Youth
ORGANIZER;CN="Nova Scotia Works PeopleWorx":MAILTO:contact@peopleworx.ca
END:VEVENT
BEGIN:VEVENT
DTSTART;VALUE=DATE:20250528
DTEND;VALUE=DATE:20250529
DTSTAMP:20260423T224054
CREATED:20250102T152658Z
LAST-MODIFIED:20250102T152658Z
UID:2787-1748390400-1748476799@peopleworx.ca
SUMMARY:School Liaison at Northeast Kings Education Centre
DESCRIPTION:Our Nova Scotia Works School Liaison is available every Wednesday at Northeast Kings Education Centre with great information for youth as they develop their employability skills and connect to employment. \nShe is also available to consult with parents and caregivers with the same youth-focused information. \nFor more information contact Melanie at melanie.mcculloch@gnspes.ca and visit her microsite bit.ly/NSW_Melanie
URL:https://peopleworx.ca/event/school-liaison-at-northeast-kings-education-centre-14/
LOCATION:Northeast Kings Education Centre\, 1816 Bains Road\, Canning\, Nova Scotia\, B0P 1H0
CATEGORIES:Canning Area,Youth
ORGANIZER;CN="Nova Scotia Works PeopleWorx":MAILTO:contact@peopleworx.ca
END:VEVENT
BEGIN:VEVENT
DTSTART;VALUE=DATE:20250529
DTEND;VALUE=DATE:20250530
DTSTAMP:20260423T224054
CREATED:20250102T171741Z
LAST-MODIFIED:20250102T171741Z
UID:2823-1748476800-1748563199@peopleworx.ca
SUMMARY:School Liaison at Middleton Regional High School
DESCRIPTION:Our Nova Scotia Works School Liaison is available every Thursday at Middleton Regional High School with great information for youth they develop their employability skills and connect to employment. \nShe is also available to consult with parents and caregivers with the same youth-focused information. \nContact Melanie melanie.mcculloch@gnspes.ca  and check out the microsite for more information bit.ly/NSW_Melanie
URL:https://peopleworx.ca/event/school-liaison-at-middleton-regional-high-school-14/
LOCATION:Middleton Regional High School\, 18 Gates Avenue\, Middleton\, Nova Scotia\, B0S 1P0\, Canada
CATEGORIES:Middleton Area,Youth
ORGANIZER;CN="Nova Scotia Works PeopleWorx":MAILTO:contact@peopleworx.ca
END:VEVENT
BEGIN:VEVENT
DTSTART;VALUE=DATE:20250530
DTEND;VALUE=DATE:20250531
DTSTAMP:20260423T224054
CREATED:20250102T173451Z
LAST-MODIFIED:20250102T173715Z
UID:2837-1748563200-1748649599@peopleworx.ca
SUMMARY:School Liaison at West Kings District High School
DESCRIPTION:Our Nova Scotia Works School Liaison is available every Friday at West Kings District High School with great information for youth they develop their employability skills and connect to employment. \nShe is also available to consult with parents and caregivers with the same youth-focused information. \nContact Melanie melanie.mcculloch@gnspes.ca  and check out the microsite for more information bit.ly/NSW_Melanie
URL:https://peopleworx.ca/event/school-liaison-at-west-kings-district-high-school-9/
LOCATION:West Kings District High School\, 1941 Hwy 1\, Auburn\, Nova Scotia\, B0P1A0\, Canada
CATEGORIES:Berwick Area,Kingston/Greenwood,Youth
ORGANIZER;CN="Nova Scotia Works PeopleWorx":MAILTO:contact@peopleworx.ca
END:VEVENT
END:VCALENDAR