BEGIN:VCALENDAR
VERSION:2.0
PRODID:-// - ECPv6.15.20//NONSGML v1.0//EN
CALSCALE:GREGORIAN
METHOD:PUBLISH
X-ORIGINAL-URL:https://peopleworx.ca
X-WR-CALDESC:Events for 
REFRESH-INTERVAL;VALUE=DURATION:PT1H
X-Robots-Tag:noindex
X-PUBLISHED-TTL:PT1H
BEGIN:VTIMEZONE
TZID:America/Halifax
BEGIN:DAYLIGHT
TZOFFSETFROM:-0400
TZOFFSETTO:-0300
TZNAME:ADT
DTSTART:20240310T060000
END:DAYLIGHT
BEGIN:STANDARD
TZOFFSETFROM:-0300
TZOFFSETTO:-0400
TZNAME:AST
DTSTART:20241103T050000
END:STANDARD
BEGIN:DAYLIGHT
TZOFFSETFROM:-0400
TZOFFSETTO:-0300
TZNAME:ADT
DTSTART:20250309T060000
END:DAYLIGHT
BEGIN:STANDARD
TZOFFSETFROM:-0300
TZOFFSETTO:-0400
TZNAME:AST
DTSTART:20251102T050000
END:STANDARD
BEGIN:DAYLIGHT
TZOFFSETFROM:-0400
TZOFFSETTO:-0300
TZNAME:ADT
DTSTART:20260308T060000
END:DAYLIGHT
BEGIN:STANDARD
TZOFFSETFROM:-0300
TZOFFSETTO:-0400
TZNAME:AST
DTSTART:20261101T050000
END:STANDARD
END:VTIMEZONE
BEGIN:VEVENT
DTSTART;VALUE=DATE:20250402
DTEND;VALUE=DATE:20250403
DTSTAMP:20260424T000224
CREATED:20250102T150543Z
LAST-MODIFIED:20250102T150543Z
UID:2771-1743552000-1743638399@peopleworx.ca
SUMMARY:School Liaison at Northeast Kings Education Centre
DESCRIPTION:Our Nova Scotia Works School Liaison is available every Wednesday at Northeast Kings Education Centre with great information for youth as they develop their employability skills and connect to employment. \nShe is also available to consult with parents and caregivers with the same youth-focused information. \nFor more information contact Melanie at melanie.mcculloch@gnspes.ca and visit her microsite bit.ly/NSW_Melanie
URL:https://peopleworx.ca/event/school-liaison-at-northeast-kings-education-centre-8/
LOCATION:Northeast Kings Education Centre\, 1816 Bains Road\, Canning\, Nova Scotia\, B0P 1H0
CATEGORIES:Canning Area,Youth
ORGANIZER;CN="Nova Scotia Works PeopleWorx":MAILTO:contact@peopleworx.ca
END:VEVENT
BEGIN:VEVENT
DTSTART;VALUE=DATE:20250404
DTEND;VALUE=DATE:20250405
DTSTAMP:20260424T000224
CREATED:20250102T140020Z
LAST-MODIFIED:20250102T140020Z
UID:2730-1743724800-1743811199@peopleworx.ca
SUMMARY:School Liaison at WKDHS
DESCRIPTION:Our Nova Scotia Works School Liaison is available every Friday at West Kings District High School with great information for youth as they develop their employability skills and connect to employment. \nShe is also available to consult with parents and caregivers with the same youth-focused information. \nContact Melanie melanie.mcculloch@gnspes.ca  and check out the microsite for more information bit.ly/NSW_Melanie
URL:https://peopleworx.ca/event/school-liaison-at-wkdhs-5/
LOCATION:West Kings District High School\, 1941 Hwy 1\, Auburn\, Nova Scotia\, B0P1A0\, Canada
CATEGORIES:Berwick Area,Kingston/Greenwood,Youth
ORGANIZER;CN="Nova Scotia Works PeopleWorx":MAILTO:contact@peopleworx.ca
END:VEVENT
BEGIN:VEVENT
DTSTART;VALUE=DATE:20250411
DTEND;VALUE=DATE:20250412
DTSTAMP:20260424T000224
CREATED:20250102T142104Z
LAST-MODIFIED:20250102T142104Z
UID:2732-1744329600-1744415999@peopleworx.ca
SUMMARY:School Liaison at WKDHS
DESCRIPTION:Our Nova Scotia Works School Liaison is available every Friday at West Kings District High School with great information for youth as they develop their employability skills and connect to employment. \nShe is also available to consult with parents and caregivers with the same youth-focused information. \nContact Melanie melanie.mcculloch@gnspes.ca  and check out the microsite for more information bit.ly/NSW_Melanie
URL:https://peopleworx.ca/event/school-liaison-at-wkdhs-6/
LOCATION:West Kings District High School\, 1941 Hwy 1\, Auburn\, Nova Scotia\, B0P1A0\, Canada
CATEGORIES:Berwick Area,Kingston/Greenwood,Youth
ORGANIZER;CN="Nova Scotia Works PeopleWorx":MAILTO:contact@peopleworx.ca
END:VEVENT
BEGIN:VEVENT
DTSTART;VALUE=DATE:20250416
DTEND;VALUE=DATE:20250417
DTSTAMP:20260424T000224
CREATED:20250102T151330Z
LAST-MODIFIED:20250102T151330Z
UID:2775-1744761600-1744847999@peopleworx.ca
SUMMARY:School Liaison at Northeast Kings Education Centre
DESCRIPTION:Our Nova Scotia Works School Liaison is available every Wednesday at Northeast Kings Education Centre with great information for youth as they develop their employability skills and connect to employment. \nShe is also available to consult with parents and caregivers with the same youth-focused information. \nFor more information contact Melanie at melanie.mcculloch@gnspes.ca and visit her microsite bit.ly/NSW_Melanie
URL:https://peopleworx.ca/event/school-liaison-at-northeast-kings-education-centre-10/
LOCATION:Northeast Kings Education Centre\, 1816 Bains Road\, Canning\, Nova Scotia\, B0P 1H0
CATEGORIES:Canning Area,Youth
ORGANIZER;CN="Nova Scotia Works PeopleWorx":MAILTO:contact@peopleworx.ca
END:VEVENT
BEGIN:VEVENT
DTSTART;VALUE=DATE:20250417
DTEND;VALUE=DATE:20250418
DTSTAMP:20260424T000224
CREATED:20250102T172916Z
LAST-MODIFIED:20250102T172916Z
UID:2835-1744848000-1744934399@peopleworx.ca
SUMMARY:School Liaison at Middleton Regional High School
DESCRIPTION:Our Nova Scotia Works School Liaison is available every Thursday at Middleton Regional High School with great information for youth they develop their employability skills and connect to employment. \nShe is also available to consult with parents and caregivers with the same youth-focused information. \nContact Melanie melanie.mcculloch@gnspes.ca  and check out the microsite for more information bit.ly/NSW_Melanie
URL:https://peopleworx.ca/event/school-liaison-at-middleton-regional-high-school-20/
LOCATION:Middleton Regional High School\, 18 Gates Avenue\, Middleton\, Nova Scotia\, B0S 1P0\, Canada
CATEGORIES:Middleton Area,Youth
ORGANIZER;CN="Nova Scotia Works PeopleWorx":MAILTO:contact@peopleworx.ca
END:VEVENT
BEGIN:VEVENT
DTSTART;VALUE=DATE:20250418
DTEND;VALUE=DATE:20250419
DTSTAMP:20260424T000224
CREATED:20250102T142217Z
LAST-MODIFIED:20250102T142217Z
UID:2734-1744934400-1745020799@peopleworx.ca
SUMMARY:School Liaison at WKDHS
DESCRIPTION:Our Nova Scotia Works School Liaison is available every Friday at West Kings District High School with great information for youth as they develop their employability skills and connect to employment. \nShe is also available to consult with parents and caregivers with the same youth-focused information. \nContact Melanie melanie.mcculloch@gnspes.ca  and check out the microsite for more information bit.ly/NSW_Melanie
URL:https://peopleworx.ca/event/school-liaison-at-wkdhs-7/
LOCATION:West Kings District High School\, 1941 Hwy 1\, Auburn\, Nova Scotia\, B0P1A0\, Canada
CATEGORIES:Berwick Area,Kingston/Greenwood,Youth
ORGANIZER;CN="Nova Scotia Works PeopleWorx":MAILTO:contact@peopleworx.ca
END:VEVENT
BEGIN:VEVENT
DTSTART;VALUE=DATE:20250423
DTEND;VALUE=DATE:20250424
DTSTAMP:20260424T000224
CREATED:20250102T151852Z
LAST-MODIFIED:20250102T151852Z
UID:2777-1745366400-1745452799@peopleworx.ca
SUMMARY:School Liaison Northeast Kings Education Centre
DESCRIPTION:Our Nova Scotia Works School Liaison is available every Wednesday at Northeast Kings Education Centre with great information for youth as they develop their employability skills and connect to employment. \nShe is also available to consult with parents and caregivers with the same youth-focused information. \nFor more information contact Melanie at melanie.mcculloch@gnspes.ca and visit her microsite bit.ly/NSW_Melanie
URL:https://peopleworx.ca/event/school-liaison-northeast-kings-education-centre/
LOCATION:Northeast Kings Education Centre\, 1816 Bains Road\, Canning\, Nova Scotia\, B0P 1H0
CATEGORIES:Canning Area,Youth
ORGANIZER;CN="Nova Scotia Works PeopleWorx":MAILTO:contact@peopleworx.ca
END:VEVENT
BEGIN:VEVENT
DTSTART;VALUE=DATE:20250424
DTEND;VALUE=DATE:20250425
DTSTAMP:20260424T000224
CREATED:20250102T170642Z
LAST-MODIFIED:20250102T171042Z
UID:2813-1745452800-1745539199@peopleworx.ca
SUMMARY:School Liaison at Middleton Regional High School
DESCRIPTION:Our Nova Scotia Works School Liaison is available every Thursday at Middleton Regional High School with great information for youth they develop their employability skills and connect to employment. \nShe is also available to consult with parents and caregivers with the same youth-focused information. \nContact Melanie melanie.mcculloch@gnspes.ca  and check out the microsite for more information bit.ly/NSW_Melanie
URL:https://peopleworx.ca/event/school-liaison-at-middleton-regional-high-school-9/
LOCATION:Middleton Regional High School\, 18 Gates Avenue\, Middleton\, Nova Scotia\, B0S 1P0\, Canada
CATEGORIES:Middleton Area,Youth
ORGANIZER;CN="Nova Scotia Works PeopleWorx":MAILTO:contact@peopleworx.ca
END:VEVENT
BEGIN:VEVENT
DTSTART;VALUE=DATE:20250425
DTEND;VALUE=DATE:20250426
DTSTAMP:20260424T000224
CREATED:20250102T142333Z
LAST-MODIFIED:20250102T142333Z
UID:2736-1745539200-1745625599@peopleworx.ca
SUMMARY:School Liaison at WKDHS
DESCRIPTION:Our Nova Scotia Works School Liaison is available every Friday at West Kings District High School with great information for youth as they develop their employability skills and connect to employment. \nShe is also available to consult with parents and caregivers with the same youth-focused information. \nContact Melanie melanie.mcculloch@gnspes.ca  and check out the microsite for more information bit.ly/NSW_Melanie
URL:https://peopleworx.ca/event/school-liaison-at-wkdhs-8/
LOCATION:West Kings District High School\, 1941 Hwy 1\, Auburn\, Nova Scotia\, B0P1A0\, Canada
CATEGORIES:Berwick Area,Kingston/Greenwood,Youth
ORGANIZER;CN="Nova Scotia Works PeopleWorx":MAILTO:contact@peopleworx.ca
END:VEVENT
BEGIN:VEVENT
DTSTART;VALUE=DATE:20250430
DTEND;VALUE=DATE:20250501
DTSTAMP:20260424T000224
CREATED:20250102T152030Z
LAST-MODIFIED:20250102T152030Z
UID:2779-1745971200-1746057599@peopleworx.ca
SUMMARY:School Liaison at Northeast Kings Education Centre
DESCRIPTION:Our Nova Scotia Works School Liaison is available every Wednesday at Northeast Kings Education Centre with great information for youth as they develop their employability skills and connect to employment. \nShe is also available to consult with parents and caregivers with the same youth-focused information. \nFor more information contact Melanie at melanie.mcculloch@gnspes.ca and visit her microsite bit.ly/NSW_Melanie
URL:https://peopleworx.ca/event/school-liaison-at-northeast-kings-education-centre-11/
LOCATION:Northeast Kings Education Centre\, 1816 Bains Road\, Canning\, Nova Scotia\, B0P 1H0
CATEGORIES:Canning Area,Youth
ORGANIZER;CN="Nova Scotia Works PeopleWorx":MAILTO:contact@peopleworx.ca
END:VEVENT
END:VCALENDAR