BEGIN:VCALENDAR
VERSION:2.0
PRODID:-// - ECPv6.15.20//NONSGML v1.0//EN
CALSCALE:GREGORIAN
METHOD:PUBLISH
X-ORIGINAL-URL:https://peopleworx.ca
X-WR-CALDESC:Events for 
REFRESH-INTERVAL;VALUE=DURATION:PT1H
X-Robots-Tag:noindex
X-PUBLISHED-TTL:PT1H
BEGIN:VTIMEZONE
TZID:America/Halifax
BEGIN:DAYLIGHT
TZOFFSETFROM:-0400
TZOFFSETTO:-0300
TZNAME:ADT
DTSTART:20240310T060000
END:DAYLIGHT
BEGIN:STANDARD
TZOFFSETFROM:-0300
TZOFFSETTO:-0400
TZNAME:AST
DTSTART:20241103T050000
END:STANDARD
BEGIN:DAYLIGHT
TZOFFSETFROM:-0400
TZOFFSETTO:-0300
TZNAME:ADT
DTSTART:20250309T060000
END:DAYLIGHT
BEGIN:STANDARD
TZOFFSETFROM:-0300
TZOFFSETTO:-0400
TZNAME:AST
DTSTART:20251102T050000
END:STANDARD
BEGIN:DAYLIGHT
TZOFFSETFROM:-0400
TZOFFSETTO:-0300
TZNAME:ADT
DTSTART:20260308T060000
END:DAYLIGHT
BEGIN:STANDARD
TZOFFSETFROM:-0300
TZOFFSETTO:-0400
TZNAME:AST
DTSTART:20261101T050000
END:STANDARD
END:VTIMEZONE
BEGIN:VEVENT
DTSTART;TZID=America/Halifax:20250305T180000
DTEND;TZID=America/Halifax:20250305T200000
DTSTAMP:20260422T154840
CREATED:20250226T184645Z
LAST-MODIFIED:20250226T184645Z
UID:3099-1741197600-1741204800@peopleworx.ca
SUMMARY:Job Fair with Annapolis Valley Regional Centre for Education (AVRCE)
DESCRIPTION:Job Fair! AVRCE staff will be on-site at our Nova Scotia Works office\, 298 Marshall Street in Middleton to assist with applications and provide career information. This opportunity is also for individuals to explore AVRCE careers\, and gather insight about job requirements. \nOur Nova Scotia Works team will also be available to explain how our services can help job seekers create an action plan that leads to work. \nDrop in\, no registration is required. \nOur offices are scent-free due to severe sensitivities. Please do not wear scented products when you visit. Thank you.
URL:https://peopleworx.ca/event/job-fair-with-annapolis-valley-regional-centre-for-education-avrce-4/
LOCATION:Nova Scotia Works - Middleton\, 298 Marshall Street\, Middleton\, Nova Scotia\, B0S 1P0\, Canada
CATEGORIES:Employers,Job Seekers,Middleton Area
ORGANIZER;CN="Nova Scotia Works PeopleWorx":MAILTO:contact@peopleworx.ca
END:VEVENT
END:VCALENDAR