BEGIN:VCALENDAR
VERSION:2.0
PRODID:-// - ECPv6.15.20//NONSGML v1.0//EN
CALSCALE:GREGORIAN
METHOD:PUBLISH
X-ORIGINAL-URL:https://peopleworx.ca
X-WR-CALDESC:Events for 
REFRESH-INTERVAL;VALUE=DURATION:PT1H
X-Robots-Tag:noindex
X-PUBLISHED-TTL:PT1H
BEGIN:VTIMEZONE
TZID:America/Halifax
BEGIN:DAYLIGHT
TZOFFSETFROM:-0400
TZOFFSETTO:-0300
TZNAME:ADT
DTSTART:20240310T060000
END:DAYLIGHT
BEGIN:STANDARD
TZOFFSETFROM:-0300
TZOFFSETTO:-0400
TZNAME:AST
DTSTART:20241103T050000
END:STANDARD
BEGIN:DAYLIGHT
TZOFFSETFROM:-0400
TZOFFSETTO:-0300
TZNAME:ADT
DTSTART:20250309T060000
END:DAYLIGHT
BEGIN:STANDARD
TZOFFSETFROM:-0300
TZOFFSETTO:-0400
TZNAME:AST
DTSTART:20251102T050000
END:STANDARD
BEGIN:DAYLIGHT
TZOFFSETFROM:-0400
TZOFFSETTO:-0300
TZNAME:ADT
DTSTART:20260308T060000
END:DAYLIGHT
BEGIN:STANDARD
TZOFFSETFROM:-0300
TZOFFSETTO:-0400
TZNAME:AST
DTSTART:20261101T050000
END:STANDARD
END:VTIMEZONE
BEGIN:VEVENT
DTSTART;TZID=America/Halifax:20250220T130000
DTEND;TZID=America/Halifax:20250220T170000
DTSTAMP:20260422T234543
CREATED:20241212T175557Z
LAST-MODIFIED:20250108T135820Z
UID:2448-1740056400-1740070800@peopleworx.ca
SUMMARY:Annapolis Valley Career Fair
DESCRIPTION:Save the date! \nNova Scotia Works PeopleWorx and NSCC will co-host a job fair at the NSCC Annapolis Valley Campus in Middleton. \nEmployers - to inquire about a table\, contact Deb Kendall one of our our Employer Engagement Specialists at dkendall@peopleworx.ca. \nStay tuned to the events page for details at  peopleworx.ca/career-fair-feb-2025/ \n  \n⇒ Learn more about Nova Scotia Works services for job seekers and employers
URL:https://peopleworx.ca/event/job-fair-in-middleton-save-the-date/
LOCATION:NSCC Annapolis Valley Campus\, 295 Commercial Street\, Middleton\, Nova Scotia\, Canada
CATEGORIES:Berwick Area,Career Fair,Kingston/Greenwood,Middleton Area
ORGANIZER;CN="Nova Scotia Works PeopleWorx":MAILTO:contact@peopleworx.ca
END:VEVENT
END:VCALENDAR