BEGIN:VCALENDAR
VERSION:2.0
PRODID:-// - ECPv6.15.20//NONSGML v1.0//EN
CALSCALE:GREGORIAN
METHOD:PUBLISH
X-ORIGINAL-URL:https://peopleworx.ca
X-WR-CALDESC:Events for 
REFRESH-INTERVAL;VALUE=DURATION:PT1H
X-Robots-Tag:noindex
X-PUBLISHED-TTL:PT1H
BEGIN:VTIMEZONE
TZID:America/Halifax
BEGIN:DAYLIGHT
TZOFFSETFROM:-0400
TZOFFSETTO:-0300
TZNAME:ADT
DTSTART:20240310T060000
END:DAYLIGHT
BEGIN:STANDARD
TZOFFSETFROM:-0300
TZOFFSETTO:-0400
TZNAME:AST
DTSTART:20241103T050000
END:STANDARD
BEGIN:DAYLIGHT
TZOFFSETFROM:-0400
TZOFFSETTO:-0300
TZNAME:ADT
DTSTART:20250309T060000
END:DAYLIGHT
BEGIN:STANDARD
TZOFFSETFROM:-0300
TZOFFSETTO:-0400
TZNAME:AST
DTSTART:20251102T050000
END:STANDARD
BEGIN:DAYLIGHT
TZOFFSETFROM:-0400
TZOFFSETTO:-0300
TZNAME:ADT
DTSTART:20260308T060000
END:DAYLIGHT
BEGIN:STANDARD
TZOFFSETFROM:-0300
TZOFFSETTO:-0400
TZNAME:AST
DTSTART:20261101T050000
END:STANDARD
END:VTIMEZONE
BEGIN:VEVENT
DTSTART;VALUE=DATE:20251217
DTEND;VALUE=DATE:20251218
DTSTAMP:20260421T082510
CREATED:20251102T121106Z
LAST-MODIFIED:20251102T121106Z
UID:3652-1765929600-1766015999@peopleworx.ca
SUMMARY:NSWSL at NKEC
DESCRIPTION:Our Nova Scotia Works School Liaison is available in person every Wednesday at Northeast Kings Education Centre to encourage high school youth as they develop their employability skills and connect to employment. Her workspace is just inside the cafeteria. \n\nIdentify employability skills\nBuild or review your resume and cover letters\nLearn job search strategies\nBecome curious about exploring careers\nPrepare for networking or a job interview\nSupport as you find employment now and after high school\nDiscuss your question or challenges about employment and careers\n\nShe is also available to consult with parents and caregivers with the same youth-focused information. \nShe can help virtually when she's not at school. For more information\, contact Melanie at melanie.mcculloch@gnspes.ca and visit her microsite www.bit.ly/NSW_Melanie
URL:https://peopleworx.ca/event/nswsl-at-nkec-6/
CATEGORIES:Canning Area,Youth
END:VEVENT
BEGIN:VEVENT
DTSTART;VALUE=DATE:20251210
DTEND;VALUE=DATE:20251211
DTSTAMP:20260421T082510
CREATED:20251102T120944Z
LAST-MODIFIED:20251102T120944Z
UID:3650-1765324800-1765411199@peopleworx.ca
SUMMARY:NSWSL at NKEC
DESCRIPTION:Our Nova Scotia Works School Liaison is available in person every Wednesday at Northeast Kings Education Centre to encourage high school youth as they develop their employability skills and connect to employment. Her workspace is just inside the cafeteria. \n\nIdentify employability skills\nBuild or review your resume and cover letters\nLearn job search strategies\nBecome curious about exploring careers\nPrepare for networking or a job interview\nSupport as you find employment now and after high school\nDiscuss your questions or challenges about employment and careers\n\nShe is also available to consult with parents and caregivers with the same youth-focused information. \nShe can help virtually when she's not at school. For more information\, contact Melanie at melanie.mcculloch@gnspes.ca and visit her microsite www.bit.ly/NSW_Melanie
URL:https://peopleworx.ca/event/nswsl-at-nkec-5/
CATEGORIES:Canning Area,Youth
END:VEVENT
BEGIN:VEVENT
DTSTART;VALUE=DATE:20251203
DTEND;VALUE=DATE:20251204
DTSTAMP:20260421T082510
CREATED:20251102T120758Z
LAST-MODIFIED:20251102T120758Z
UID:3648-1764720000-1764806399@peopleworx.ca
SUMMARY:NSWSL at NKEC
DESCRIPTION:Our Nova Scotia Works School Liaison is available in person every Wednesday at Northeast Kings Education Centre to encourage high school youth as they develop their employability skills and connect to employment. Her workspace is just inside the cafeteria. \n\nIdentify employability skills\nBuild or review your resume and cover letters\nLearn job search strategies\nBecome curious about exploring careers\nPrepare for networking or a job interview\nSupport as you find employment now and after high school\nDiscuss your question or challenges about employment and careers\n\nShe is also available to consult with parents and caregivers with the same youth-focused information. \nShe can help virtually when she's not at school. For more information\, contact Melanie at melanie.mcculloch@gnspes.ca and visit her microsite www.bit.ly/NSW_Melanie
URL:https://peopleworx.ca/event/nswsl-at-nkec-4/
CATEGORIES:Canning Area,Youth
END:VEVENT
BEGIN:VEVENT
DTSTART;VALUE=DATE:20251126
DTEND;VALUE=DATE:20251127
DTSTAMP:20260421T082510
CREATED:20251102T120625Z
LAST-MODIFIED:20251102T120625Z
UID:3646-1764115200-1764201599@peopleworx.ca
SUMMARY:NSWSL at NKEC
DESCRIPTION:Our Nova Scotia Works School Liaison is available in person every Wednesday at Northeast Kings Education Centre to encourage high school youth as they develop their employability skills and connect to employment. Her workspace is just inside the cafeteria. \n\nIdentify employability skills\nBuild or review your resume and cover letters\nLearn job search strategies\nBecome curious about exploring careers\nPrepare for networking or a job interview\nSupport as you find employment now and after high school\nDiscuss your question or challenges about employment and careers\n\nShe is also available to consult with parents and caregivers with the same youth-focused information. \nShe can help virtually when she's not at school. For more information\, contact Melanie at melanie.mcculloch@gnspes.ca and visit her microsite www.bit.ly/NSW_Melanie
URL:https://peopleworx.ca/event/nswsl-at-nkec-3/
CATEGORIES:Canning Area,Youth
END:VEVENT
BEGIN:VEVENT
DTSTART;VALUE=DATE:20251119
DTEND;VALUE=DATE:20251120
DTSTAMP:20260421T082510
CREATED:20251102T120447Z
LAST-MODIFIED:20251102T120447Z
UID:3644-1763510400-1763596799@peopleworx.ca
SUMMARY:NSWSL at NKEC
DESCRIPTION:Our Nova Scotia Works School Liaison is available in person every Wednesday at Northeast Kings Education Centre to encourage high school youth as they develop their employability skills and connect to employment. Her workspace is just inside the cafeteria. \n\nIdentify employability skills\nBuild or review your resume and cover letters\nLearn job search strategies\nBecome curious about exploring careers\nPrepare for networking or a job interview\nSupport as you find employment now and after high school\nDiscuss your question or challenges about employment and careers\n\nShe is also available to consult with parents and caregivers with the same youth-focused information. \nShe can help virtually when she's not at school. For more information\, contact Melanie at melanie.mcculloch@gnspes.ca and visit her microsite www.bit.ly/NSW_Melanie
URL:https://peopleworx.ca/event/nswsl-at-nkec-2/
CATEGORIES:Canning Area,Youth
END:VEVENT
BEGIN:VEVENT
DTSTART;VALUE=DATE:20251112
DTEND;VALUE=DATE:20251113
DTSTAMP:20260421T082510
CREATED:20251102T120335Z
LAST-MODIFIED:20251102T120335Z
UID:3642-1762905600-1762991999@peopleworx.ca
SUMMARY:NSWSL at NKEC
DESCRIPTION:Our Nova Scotia Works School Liaison is available in person every Wednesday at Northeast Kings Education Centre to encourage high school youth as they develop their employability skills and connect to employment. Her workspace is just inside the cafeteria. \n\nIdentify employability skills\nBuild or review your resume and cover letters\nLearn job search strategies\nBecome curious about exploring careers\nPrepare for networking or a job interview\nSupport as you find employment now and after high school\nDiscuss your question or challenges about employment and careers\n\nShe is also available to consult with parents and caregivers with the same youth-focused information. \nShe can help virtually when she's not at school. For more information\, contact Melanie at melanie.mcculloch@gnspes.ca and visit her microsite www.bit.ly/NSW_Melanie
URL:https://peopleworx.ca/event/nswsl-at-nkec/
CATEGORIES:Canning Area,Youth
END:VEVENT
BEGIN:VEVENT
DTSTART;VALUE=DATE:20251105
DTEND;VALUE=DATE:20251106
DTSTAMP:20260421T082510
CREATED:20251102T120140Z
LAST-MODIFIED:20251102T123748Z
UID:3640-1762300800-1762387199@peopleworx.ca
SUMMARY:NSWSL at NKEC
DESCRIPTION:Our Nova Scotia Works School Liaison is available in person every Wednesday at Northeast Kings Education Centre to encourage high school youth as they develop their employability skills and connect to employment. Her workspace is just inside the cafeteria. \n\nIdentify employability skills\nBuild or review your resume and cover letters\nLearn job search strategies\nBecome curious about exploring careers\nPrepare for networking or a job interview\nSupport as you find employment now and after high school\nDiscuss your question or challenges about employment and careers\n\nShe is also available to consult with parents and caregivers with the same youth-focused information. \nShe can help virtually when she's not at school. For more information\, contact Melanie at melanie.mcculloch@gnspes.ca and visit her microsite www.bit.ly/NSW_Melanie
URL:https://peopleworx.ca/event/nsw-school-liaison-at-nkec-6/
CATEGORIES:Canning Area,Youth
END:VEVENT
BEGIN:VEVENT
DTSTART;VALUE=DATE:20250618
DTEND;VALUE=DATE:20250619
DTSTAMP:20260421T082510
CREATED:20250102T154450Z
LAST-MODIFIED:20250526T140606Z
UID:2793-1750204800-1750291199@peopleworx.ca
SUMMARY:School Liaison at Northeast Kings Education Centre
DESCRIPTION:Our Nova Scotia Works School Liaison is available every Wednesday at Northeast Kings Education Centre with great information for youth as they develop their employability skills and connect to employment. \nShe is also available to consult with parents and caregivers with the same youth-focused information. \nFor more information contact Melanie at melanie.mcculloch@gnspes.ca and visit her microsite bit.ly/NSW_Melanie
URL:https://peopleworx.ca/event/school-liaison-at-northeast-kings-education-centre-17/
LOCATION:Northeast Kings Education Centre\, 1816 Bains Road\, Canning\, Nova Scotia\, B0P 1H0
CATEGORIES:Canning Area,Youth
ORGANIZER;CN="Nova Scotia Works PeopleWorx":MAILTO:contact@peopleworx.ca
END:VEVENT
BEGIN:VEVENT
DTSTART;VALUE=DATE:20250611
DTEND;VALUE=DATE:20250612
DTSTAMP:20260421T082510
CREATED:20250102T154347Z
LAST-MODIFIED:20250102T154347Z
UID:2791-1749600000-1749686399@peopleworx.ca
SUMMARY:School Liaison at Northeast Kings Education Centre
DESCRIPTION:Our Nova Scotia Works School Liaison is available every Wednesday at Northeast Kings Education Centre with great information for youth as they develop their employability skills and connect to employment. \nShe is also available to consult with parents and caregivers with the same youth-focused information. \nFor more information contact Melanie at melanie.mcculloch@gnspes.ca and visit her microsite bit.ly/NSW_Melanie
URL:https://peopleworx.ca/event/school-liaison-at-northeast-kings-education-centre-16/
LOCATION:Northeast Kings Education Centre\, 1816 Bains Road\, Canning\, Nova Scotia\, B0P 1H0
CATEGORIES:Canning Area,Youth
ORGANIZER;CN="Nova Scotia Works PeopleWorx":MAILTO:contact@peopleworx.ca
END:VEVENT
BEGIN:VEVENT
DTSTART;VALUE=DATE:20250604
DTEND;VALUE=DATE:20250605
DTSTAMP:20260421T082510
CREATED:20250102T154111Z
LAST-MODIFIED:20250102T154222Z
UID:2789-1748995200-1749081599@peopleworx.ca
SUMMARY:School Liaison at Northeast Kings Education Centre
DESCRIPTION:Our Nova Scotia Works School Liaison is available every Wednesday at Northeast Kings Education Centre with great information for youth as they develop their employability skills and connect to employment. \nShe is also available to consult with parents and caregivers with the same youth-focused information. \nFor more information contact Melanie at melanie.mcculloch@gnspes.ca and visit her microsite bit.ly/NSW_Melanie
URL:https://peopleworx.ca/event/school-liaison-at-northeast-kings-education-centre-15/
LOCATION:Northeast Kings Education Centre\, 1816 Bains Road\, Canning\, Nova Scotia\, B0P 1H0
CATEGORIES:Canning Area,Youth
ORGANIZER;CN="Nova Scotia Works PeopleWorx":MAILTO:contact@peopleworx.ca
END:VEVENT
BEGIN:VEVENT
DTSTART;VALUE=DATE:20250528
DTEND;VALUE=DATE:20250529
DTSTAMP:20260421T082510
CREATED:20250102T152658Z
LAST-MODIFIED:20250102T152658Z
UID:2787-1748390400-1748476799@peopleworx.ca
SUMMARY:School Liaison at Northeast Kings Education Centre
DESCRIPTION:Our Nova Scotia Works School Liaison is available every Wednesday at Northeast Kings Education Centre with great information for youth as they develop their employability skills and connect to employment. \nShe is also available to consult with parents and caregivers with the same youth-focused information. \nFor more information contact Melanie at melanie.mcculloch@gnspes.ca and visit her microsite bit.ly/NSW_Melanie
URL:https://peopleworx.ca/event/school-liaison-at-northeast-kings-education-centre-14/
LOCATION:Northeast Kings Education Centre\, 1816 Bains Road\, Canning\, Nova Scotia\, B0P 1H0
CATEGORIES:Canning Area,Youth
ORGANIZER;CN="Nova Scotia Works PeopleWorx":MAILTO:contact@peopleworx.ca
END:VEVENT
BEGIN:VEVENT
DTSTART;VALUE=DATE:20250521
DTEND;VALUE=DATE:20250522
DTSTAMP:20260421T082510
CREATED:20250102T152503Z
LAST-MODIFIED:20250102T152503Z
UID:2785-1747785600-1747871999@peopleworx.ca
SUMMARY:School Liaison at Northeast Kings Education Centre
DESCRIPTION:Our Nova Scotia Works School Liaison is available every Wednesday at Northeast Kings Education Centre with great information for youth as they develop their employability skills and connect to employment. \nShe is also available to consult with parents and caregivers with the same youth-focused information. \nFor more information contact Melanie at melanie.mcculloch@gnspes.ca and visit her microsite bit.ly/NSW_Melanie
URL:https://peopleworx.ca/event/school-liaison-at-northeast-kings-education-centre-13/
LOCATION:Northeast Kings Education Centre\, 1816 Bains Road\, Canning\, Nova Scotia\, B0P 1H0
CATEGORIES:Canning Area,Youth
ORGANIZER;CN="Nova Scotia Works PeopleWorx":MAILTO:contact@peopleworx.ca
END:VEVENT
BEGIN:VEVENT
DTSTART;VALUE=DATE:20250514
DTEND;VALUE=DATE:20250515
DTSTAMP:20260421T082510
CREATED:20250102T152336Z
LAST-MODIFIED:20250102T152336Z
UID:2783-1747180800-1747267199@peopleworx.ca
SUMMARY:School Liaison at Northeast Kings Education Centre
DESCRIPTION:Our Nova Scotia Works School Liaison is available every Wednesday at Northeast Kings Education Centre with great information for youth as they develop their employability skills and connect to employment. \nShe is also available to consult with parents and caregivers with the same youth-focused information. \nFor more information contact Melanie at melanie.mcculloch@gnspes.ca and visit her microsite bit.ly/NSW_Melanie
URL:https://peopleworx.ca/event/school-liaison-at-northeast-kings-education-centre-12/
LOCATION:Northeast Kings Education Centre\, 1816 Bains Road\, Canning\, Nova Scotia\, B0P 1H0
CATEGORIES:Canning Area,Youth
ORGANIZER;CN="Nova Scotia Works PeopleWorx":MAILTO:contact@peopleworx.ca
END:VEVENT
BEGIN:VEVENT
DTSTART;VALUE=DATE:20250507
DTEND;VALUE=DATE:20250508
DTSTAMP:20260421T082510
CREATED:20250102T152215Z
LAST-MODIFIED:20250102T152215Z
UID:2781-1746576000-1746662399@peopleworx.ca
SUMMARY:School Liaison Northeast Kings Education Centre
DESCRIPTION:Our Nova Scotia Works School Liaison is available every Wednesday at Northeast Kings Education Centre with great information for youth as they develop their employability skills and connect to employment. \nShe is also available to consult with parents and caregivers with the same youth-focused information. \nFor more information contact Melanie at melanie.mcculloch@gnspes.ca and visit her microsite bit.ly/NSW_Melanie
URL:https://peopleworx.ca/event/school-liaison-northeast-kings-education-centre-2/
LOCATION:Northeast Kings Education Centre\, 1816 Bains Road\, Canning\, Nova Scotia\, B0P 1H0
CATEGORIES:Canning Area,Youth
ORGANIZER;CN="Nova Scotia Works PeopleWorx":MAILTO:contact@peopleworx.ca
END:VEVENT
BEGIN:VEVENT
DTSTART;VALUE=DATE:20250430
DTEND;VALUE=DATE:20250501
DTSTAMP:20260421T082510
CREATED:20250102T152030Z
LAST-MODIFIED:20250102T152030Z
UID:2779-1745971200-1746057599@peopleworx.ca
SUMMARY:School Liaison at Northeast Kings Education Centre
DESCRIPTION:Our Nova Scotia Works School Liaison is available every Wednesday at Northeast Kings Education Centre with great information for youth as they develop their employability skills and connect to employment. \nShe is also available to consult with parents and caregivers with the same youth-focused information. \nFor more information contact Melanie at melanie.mcculloch@gnspes.ca and visit her microsite bit.ly/NSW_Melanie
URL:https://peopleworx.ca/event/school-liaison-at-northeast-kings-education-centre-11/
LOCATION:Northeast Kings Education Centre\, 1816 Bains Road\, Canning\, Nova Scotia\, B0P 1H0
CATEGORIES:Canning Area,Youth
ORGANIZER;CN="Nova Scotia Works PeopleWorx":MAILTO:contact@peopleworx.ca
END:VEVENT
BEGIN:VEVENT
DTSTART;VALUE=DATE:20250423
DTEND;VALUE=DATE:20250424
DTSTAMP:20260421T082510
CREATED:20250102T151852Z
LAST-MODIFIED:20250102T151852Z
UID:2777-1745366400-1745452799@peopleworx.ca
SUMMARY:School Liaison Northeast Kings Education Centre
DESCRIPTION:Our Nova Scotia Works School Liaison is available every Wednesday at Northeast Kings Education Centre with great information for youth as they develop their employability skills and connect to employment. \nShe is also available to consult with parents and caregivers with the same youth-focused information. \nFor more information contact Melanie at melanie.mcculloch@gnspes.ca and visit her microsite bit.ly/NSW_Melanie
URL:https://peopleworx.ca/event/school-liaison-northeast-kings-education-centre/
LOCATION:Northeast Kings Education Centre\, 1816 Bains Road\, Canning\, Nova Scotia\, B0P 1H0
CATEGORIES:Canning Area,Youth
ORGANIZER;CN="Nova Scotia Works PeopleWorx":MAILTO:contact@peopleworx.ca
END:VEVENT
BEGIN:VEVENT
DTSTART;VALUE=DATE:20250416
DTEND;VALUE=DATE:20250417
DTSTAMP:20260421T082510
CREATED:20250102T151330Z
LAST-MODIFIED:20250102T151330Z
UID:2775-1744761600-1744847999@peopleworx.ca
SUMMARY:School Liaison at Northeast Kings Education Centre
DESCRIPTION:Our Nova Scotia Works School Liaison is available every Wednesday at Northeast Kings Education Centre with great information for youth as they develop their employability skills and connect to employment. \nShe is also available to consult with parents and caregivers with the same youth-focused information. \nFor more information contact Melanie at melanie.mcculloch@gnspes.ca and visit her microsite bit.ly/NSW_Melanie
URL:https://peopleworx.ca/event/school-liaison-at-northeast-kings-education-centre-10/
LOCATION:Northeast Kings Education Centre\, 1816 Bains Road\, Canning\, Nova Scotia\, B0P 1H0
CATEGORIES:Canning Area,Youth
ORGANIZER;CN="Nova Scotia Works PeopleWorx":MAILTO:contact@peopleworx.ca
END:VEVENT
BEGIN:VEVENT
DTSTART;VALUE=DATE:20250402
DTEND;VALUE=DATE:20250403
DTSTAMP:20260421T082510
CREATED:20250102T150543Z
LAST-MODIFIED:20250102T150543Z
UID:2771-1743552000-1743638399@peopleworx.ca
SUMMARY:School Liaison at Northeast Kings Education Centre
DESCRIPTION:Our Nova Scotia Works School Liaison is available every Wednesday at Northeast Kings Education Centre with great information for youth as they develop their employability skills and connect to employment. \nShe is also available to consult with parents and caregivers with the same youth-focused information. \nFor more information contact Melanie at melanie.mcculloch@gnspes.ca and visit her microsite bit.ly/NSW_Melanie
URL:https://peopleworx.ca/event/school-liaison-at-northeast-kings-education-centre-8/
LOCATION:Northeast Kings Education Centre\, 1816 Bains Road\, Canning\, Nova Scotia\, B0P 1H0
CATEGORIES:Canning Area,Youth
ORGANIZER;CN="Nova Scotia Works PeopleWorx":MAILTO:contact@peopleworx.ca
END:VEVENT
BEGIN:VEVENT
DTSTART;VALUE=DATE:20250326
DTEND;VALUE=DATE:20250327
DTSTAMP:20260421T082510
CREATED:20250102T150429Z
LAST-MODIFIED:20250102T150429Z
UID:2769-1742947200-1743033599@peopleworx.ca
SUMMARY:School Liaison at Northeast Kings Education Centre
DESCRIPTION:Our Nova Scotia Works School Liaison is available every Wednesday at Northeast Kings Education Centre with great information for youth as they develop their employability skills and connect to employment. \nShe is also available to consult with parents and caregivers with the same youth-focused information. \nFor more information contact Melanie at melanie.mcculloch@gnspes.ca and visit her microsite bit.ly/NSW_Melanie
URL:https://peopleworx.ca/event/school-liaison-at-northeast-kings-education-centre-7/
LOCATION:Northeast Kings Education Centre\, 1816 Bains Road\, Canning\, Nova Scotia\, B0P 1H0
CATEGORIES:Canning Area,Youth
ORGANIZER;CN="Nova Scotia Works PeopleWorx":MAILTO:contact@peopleworx.ca
END:VEVENT
BEGIN:VEVENT
DTSTART;VALUE=DATE:20250319
DTEND;VALUE=DATE:20250320
DTSTAMP:20260421T082510
CREATED:20250102T150324Z
LAST-MODIFIED:20250102T150324Z
UID:2767-1742342400-1742428799@peopleworx.ca
SUMMARY:School Liaison at Northeast Kings Education Centre
DESCRIPTION:Our Nova Scotia Works School Liaison is available every Wednesday at Northeast Kings Education Centre with great information for youth as they develop their employability skills and connect to employment. \nShe is also available to consult with parents and caregivers with the same youth-focused information. \nFor more information contact Melanie at melanie.mcculloch@gnspes.ca and visit her microsite bit.ly/NSW_Melanie
URL:https://peopleworx.ca/event/school-liaison-at-northeast-kings-education-centre-6/
LOCATION:Northeast Kings Education Centre\, 1816 Bains Road\, Canning\, Nova Scotia\, B0P 1H0
CATEGORIES:Canning Area,Youth
ORGANIZER;CN="Nova Scotia Works PeopleWorx":MAILTO:contact@peopleworx.ca
END:VEVENT
BEGIN:VEVENT
DTSTART;TZID=America/Halifax:20250311T130000
DTEND;TZID=America/Halifax:20250311T160000
DTSTAMP:20260421T082510
CREATED:20250226T154910Z
LAST-MODIFIED:20250226T183211Z
UID:3089-1741698000-1741708800@peopleworx.ca
SUMMARY:Career Canvas: A Vision Board Workshop for Youth
DESCRIPTION:Hosted at Nova Scotia Work Centre in Coldbrook for high school aged youth. \nJoin Nova Scotia Works and the Native Council of Nova Scotia during your March Break\, and let's dream of the awesome possibilities that your future holds. \nEach participant will create a career canvas vision board which is a creative tool to map out goals and directions. \nNo experience is necessary. All supplies will be provided and the workshop is free. Registration is required by contacting us at workshop@peopleworx.ca or 1-866-609-9675 \nNote that our buildings and workshop spaces are scent-free due to severe sensitivities. Please do not wear scented products when you visit. Thank you. \n 
URL:https://peopleworx.ca/event/career-canvas-a-vision-board-session-for-youth/
LOCATION:Nova Scotia Works - Coldbrook\, 11 Opportunity Lane\, Coldbrook\, Nova Scotia\, B4R 0A5\, Canada
CATEGORIES:Canning Area,Coldbrook Area,Workshop,Youth
ORGANIZER;CN="Nova Scotia Works PeopleWorx":MAILTO:contact@peopleworx.ca
END:VEVENT
BEGIN:VEVENT
DTSTART;VALUE=DATE:20250305
DTEND;VALUE=DATE:20250306
DTSTAMP:20260421T082510
CREATED:20250102T150203Z
LAST-MODIFIED:20250102T150203Z
UID:2765-1741132800-1741219199@peopleworx.ca
SUMMARY:School Liaison at Northeast Kings Education Centre
DESCRIPTION:Our Nova Scotia Works School Liaison is available every Wednesday at Northeast Kings Education Centre with great information for youth as they develop their employability skills and connect to employment. \nShe is also available to consult with parents and caregivers with the same youth-focused information. \nFor more information contact Melanie at melanie.mcculloch@gnspes.ca and visit her microsite bit.ly/NSW_Melanie
URL:https://peopleworx.ca/event/school-liaison-at-northeast-kings-education-centre-5/
LOCATION:Northeast Kings Education Centre\, 1816 Bains Road\, Canning\, Nova Scotia\, B0P 1H0
CATEGORIES:Canning Area,Youth
ORGANIZER;CN="Nova Scotia Works PeopleWorx":MAILTO:contact@peopleworx.ca
END:VEVENT
BEGIN:VEVENT
DTSTART;VALUE=DATE:20250226
DTEND;VALUE=DATE:20250227
DTSTAMP:20260421T082510
CREATED:20250102T150045Z
LAST-MODIFIED:20250102T150045Z
UID:2763-1740528000-1740614399@peopleworx.ca
SUMMARY:School Liaison at Northeast Kings Education Centre
DESCRIPTION:Our Nova Scotia Works School Liaison is available every Wednesday at Northeast Kings Education Centre with great information for youth as they develop their employability skills and connect to employment. \nShe is also available to consult with parents and caregivers with the same youth-focused information. \nFor more information contact Melanie at melanie.mcculloch@gnspes.ca and visit her microsite bit.ly/NSW_Melanie \n 
URL:https://peopleworx.ca/event/school-liaison-at-northeast-kings-education-centre-4/
LOCATION:Northeast Kings Education Centre\, 1816 Bains Road\, Canning\, Nova Scotia\, B0P 1H0
CATEGORIES:Canning Area,Youth
ORGANIZER;CN="Nova Scotia Works PeopleWorx":MAILTO:contact@peopleworx.ca
END:VEVENT
BEGIN:VEVENT
DTSTART;VALUE=DATE:20250212
DTEND;VALUE=DATE:20250213
DTSTAMP:20260421T082510
CREATED:20250102T145735Z
LAST-MODIFIED:20250102T145735Z
UID:2759-1739318400-1739404799@peopleworx.ca
SUMMARY:School Liaison at Northeast Kings Education Centre
DESCRIPTION:Our Nova Scotia Works School Liaison is available every Wednesday at Northeast Kings Education Centre with great information for youth as they develop their employability skills and connect to employment. \nShe is also available to consult with parents and caregivers with the same youth-focused information. \nFor more information contact Melanie at melanie.mcculloch@gnspes.ca and visit her microsite bit.ly/NSW_Melanie
URL:https://peopleworx.ca/event/school-liaison-at-northeast-kings-education-centre-2/
LOCATION:Northeast Kings Education Centre\, 1816 Bains Road\, Canning\, Nova Scotia\, B0P 1H0
CATEGORIES:Canning Area,Youth
ORGANIZER;CN="Nova Scotia Works PeopleWorx":MAILTO:contact@peopleworx.ca
END:VEVENT
BEGIN:VEVENT
DTSTART;VALUE=DATE:20250205
DTEND;VALUE=DATE:20250206
DTSTAMP:20260421T082510
CREATED:20250102T145627Z
LAST-MODIFIED:20250102T145627Z
UID:2757-1738713600-1738799999@peopleworx.ca
SUMMARY:School Liaison at Northeast Kings Education Centre
DESCRIPTION:Our Nova Scotia Works School Liaison is available every Wednesday at Northeast Kings Education Centre with great information for youth as they develop their employability skills and connect to employment. \nShe is also available to consult with parents and caregivers with the same youth-focused information. \nFor more information contact Melanie at melanie.mcculloch@gnspes.ca and visit her microsite bit.ly/NSW_Melanie
URL:https://peopleworx.ca/event/school-liaison-at-northeast-kings-education-centre/
LOCATION:Northeast Kings Education Centre\, 1816 Bains Road\, Canning\, Nova Scotia\, B0P 1H0
CATEGORIES:Canning Area,Youth
ORGANIZER;CN="Nova Scotia Works PeopleWorx":MAILTO:contact@peopleworx.ca
END:VEVENT
END:VCALENDAR