BEGIN:VCALENDAR
VERSION:2.0
PRODID:-// - ECPv6.15.20//NONSGML v1.0//EN
CALSCALE:GREGORIAN
METHOD:PUBLISH
X-ORIGINAL-URL:https://peopleworx.ca
X-WR-CALDESC:Events for 
REFRESH-INTERVAL;VALUE=DURATION:PT1H
X-Robots-Tag:noindex
X-PUBLISHED-TTL:PT1H
BEGIN:VTIMEZONE
TZID:America/Halifax
BEGIN:DAYLIGHT
TZOFFSETFROM:-0400
TZOFFSETTO:-0300
TZNAME:ADT
DTSTART:20240310T060000
END:DAYLIGHT
BEGIN:STANDARD
TZOFFSETFROM:-0300
TZOFFSETTO:-0400
TZNAME:AST
DTSTART:20241103T050000
END:STANDARD
BEGIN:DAYLIGHT
TZOFFSETFROM:-0400
TZOFFSETTO:-0300
TZNAME:ADT
DTSTART:20250309T060000
END:DAYLIGHT
BEGIN:STANDARD
TZOFFSETFROM:-0300
TZOFFSETTO:-0400
TZNAME:AST
DTSTART:20251102T050000
END:STANDARD
BEGIN:DAYLIGHT
TZOFFSETFROM:-0400
TZOFFSETTO:-0300
TZNAME:ADT
DTSTART:20260308T060000
END:DAYLIGHT
BEGIN:STANDARD
TZOFFSETFROM:-0300
TZOFFSETTO:-0400
TZNAME:AST
DTSTART:20261101T050000
END:STANDARD
END:VTIMEZONE
BEGIN:VEVENT
DTSTART;VALUE=DATE:20250305
DTEND;VALUE=DATE:20250306
DTSTAMP:20260424T022033
CREATED:20250102T150203Z
LAST-MODIFIED:20250102T150203Z
UID:2765-1741132800-1741219199@peopleworx.ca
SUMMARY:School Liaison at Northeast Kings Education Centre
DESCRIPTION:Our Nova Scotia Works School Liaison is available every Wednesday at Northeast Kings Education Centre with great information for youth as they develop their employability skills and connect to employment. \nShe is also available to consult with parents and caregivers with the same youth-focused information. \nFor more information contact Melanie at melanie.mcculloch@gnspes.ca and visit her microsite bit.ly/NSW_Melanie
URL:https://peopleworx.ca/event/school-liaison-at-northeast-kings-education-centre-5/
LOCATION:Northeast Kings Education Centre\, 1816 Bains Road\, Canning\, Nova Scotia\, B0P 1H0
CATEGORIES:Canning Area,Youth
ORGANIZER;CN="Nova Scotia Works PeopleWorx":MAILTO:contact@peopleworx.ca
END:VEVENT
BEGIN:VEVENT
DTSTART;TZID=America/Halifax:20250311T130000
DTEND;TZID=America/Halifax:20250311T160000
DTSTAMP:20260424T022033
CREATED:20250226T154910Z
LAST-MODIFIED:20250226T183211Z
UID:3089-1741698000-1741708800@peopleworx.ca
SUMMARY:Career Canvas: A Vision Board Workshop for Youth
DESCRIPTION:Hosted at Nova Scotia Work Centre in Coldbrook for high school aged youth. \nJoin Nova Scotia Works and the Native Council of Nova Scotia during your March Break\, and let's dream of the awesome possibilities that your future holds. \nEach participant will create a career canvas vision board which is a creative tool to map out goals and directions. \nNo experience is necessary. All supplies will be provided and the workshop is free. Registration is required by contacting us at workshop@peopleworx.ca or 1-866-609-9675 \nNote that our buildings and workshop spaces are scent-free due to severe sensitivities. Please do not wear scented products when you visit. Thank you. \n 
URL:https://peopleworx.ca/event/career-canvas-a-vision-board-session-for-youth/
LOCATION:Nova Scotia Works - Coldbrook\, 11 Opportunity Lane\, Coldbrook\, Nova Scotia\, B4R 0A5\, Canada
CATEGORIES:Canning Area,Coldbrook Area,Workshop,Youth
ORGANIZER;CN="Nova Scotia Works PeopleWorx":MAILTO:contact@peopleworx.ca
END:VEVENT
BEGIN:VEVENT
DTSTART;VALUE=DATE:20250319
DTEND;VALUE=DATE:20250320
DTSTAMP:20260424T022033
CREATED:20250102T150324Z
LAST-MODIFIED:20250102T150324Z
UID:2767-1742342400-1742428799@peopleworx.ca
SUMMARY:School Liaison at Northeast Kings Education Centre
DESCRIPTION:Our Nova Scotia Works School Liaison is available every Wednesday at Northeast Kings Education Centre with great information for youth as they develop their employability skills and connect to employment. \nShe is also available to consult with parents and caregivers with the same youth-focused information. \nFor more information contact Melanie at melanie.mcculloch@gnspes.ca and visit her microsite bit.ly/NSW_Melanie
URL:https://peopleworx.ca/event/school-liaison-at-northeast-kings-education-centre-6/
LOCATION:Northeast Kings Education Centre\, 1816 Bains Road\, Canning\, Nova Scotia\, B0P 1H0
CATEGORIES:Canning Area,Youth
ORGANIZER;CN="Nova Scotia Works PeopleWorx":MAILTO:contact@peopleworx.ca
END:VEVENT
BEGIN:VEVENT
DTSTART;VALUE=DATE:20250326
DTEND;VALUE=DATE:20250327
DTSTAMP:20260424T022033
CREATED:20250102T150429Z
LAST-MODIFIED:20250102T150429Z
UID:2769-1742947200-1743033599@peopleworx.ca
SUMMARY:School Liaison at Northeast Kings Education Centre
DESCRIPTION:Our Nova Scotia Works School Liaison is available every Wednesday at Northeast Kings Education Centre with great information for youth as they develop their employability skills and connect to employment. \nShe is also available to consult with parents and caregivers with the same youth-focused information. \nFor more information contact Melanie at melanie.mcculloch@gnspes.ca and visit her microsite bit.ly/NSW_Melanie
URL:https://peopleworx.ca/event/school-liaison-at-northeast-kings-education-centre-7/
LOCATION:Northeast Kings Education Centre\, 1816 Bains Road\, Canning\, Nova Scotia\, B0P 1H0
CATEGORIES:Canning Area,Youth
ORGANIZER;CN="Nova Scotia Works PeopleWorx":MAILTO:contact@peopleworx.ca
END:VEVENT
END:VCALENDAR